BEGIN:VCALENDAR
VERSION:2.0
PRODID:icalendar-ruby
CALSCALE:GREGORIAN
BEGIN:VEVENT
DTSTAMP:20260420T114124Z
UID:93d2234d-9357-4b88-af2f-4d7c9ac25b55
DTSTART:20260619T000000
DTEND:20260619T030000
DESCRIPTION:Currents live in concert at Yogibo META VALLEY
LOCATION:Yogibo META VALLEY\, Naniwa Ku\, \, Japan
ORGANIZER:mailto:events@ampwrecked.com
SUMMARY:Currents - Currents at Yogibo META VALLEY
END:VEVENT
END:VCALENDAR
