BEGIN:VCALENDAR
VERSION:2.0
PRODID:icalendar-ruby
CALSCALE:GREGORIAN
BEGIN:VEVENT
DTSTAMP:20260420T114319Z
UID:9c6a6fa5-44b3-4730-99d2-b682be650543
DTSTART:20260524T000000
DTEND:20260524T030000
DESCRIPTION:Currents live in concert at Slam Dunk Festival 2026
LOCATION:Slam Dunk Festival 2026\, Leeds\, \, United Kingdom
ORGANIZER:mailto:events@ampwrecked.com
SUMMARY:Currents - Currents at Slam Dunk Festival 2026
END:VEVENT
END:VCALENDAR
