BEGIN:VCALENDAR
VERSION:2.0
PRODID:icalendar-ruby
CALSCALE:GREGORIAN
BEGIN:VEVENT
DTSTAMP:20260420T114246Z
UID:13d18e64-0a1e-423e-9aab-502ed990d306
DTSTART:20260523T000000
DTEND:20260523T030000
DESCRIPTION:Currents live in concert at Slam Dunk Festival 2026
LOCATION:Slam Dunk Festival 2026\, Hatfield\, \, United Kingdom
ORGANIZER:mailto:events@ampwrecked.com
SUMMARY:Currents - Currents at Slam Dunk Festival 2026
END:VEVENT
END:VCALENDAR
