BEGIN:VCALENDAR
VERSION:2.0
PRODID:icalendar-ruby
CALSCALE:GREGORIAN
BEGIN:VEVENT
DTSTAMP:20260420T114502Z
UID:c5c9009d-2a0a-4ba9-bc2f-1e8788319f3c
DTSTART:20260419T000000
DTEND:20260419T030000
DESCRIPTION:Currents live in concert at Vibes Event Center
LOCATION:Vibes Event Center\, San Antonio\, TX\, USA
ORGANIZER:mailto:events@ampwrecked.com
SUMMARY:Currents - Currents at Vibes Event Center
END:VEVENT
END:VCALENDAR
