BEGIN:VCALENDAR
VERSION:2.0
PRODID:icalendar-ruby
CALSCALE:GREGORIAN
BEGIN:VEVENT
DTSTAMP:20260420T150842Z
UID:136960dd-de27-45ab-86f6-a9db93222e98
DTSTART:20261004T000000
DTEND:20261004T030000
DESCRIPTION:Circa Survive live in concert at Neverender Festival 2026
LOCATION:Neverender Festival 2026\, Santa Ana\, CA\, USA
ORGANIZER:mailto:events@ampwrecked.com
SUMMARY:Circa Survive - Circa Survive at Neverender Festival 2026
END:VEVENT
END:VCALENDAR
