BEGIN:VCALENDAR
VERSION:2.0
PRODID:icalendar-ruby
CALSCALE:GREGORIAN
BEGIN:VEVENT
DTSTAMP:20260420T150842Z
UID:6b18362e-15b8-48d7-86d2-0d676639dafd
DTSTART:20261101T000000
DTEND:20261101T030000
DESCRIPTION:Despised Icon live in concert at Kavka Zappa
LOCATION:Kavka Zappa\, Antwerpen\, \, Belgium
ORGANIZER:mailto:events@ampwrecked.com
SUMMARY:Despised Icon - Despised Icon at Kavka Zappa
END:VEVENT
END:VCALENDAR
