BEGIN:VCALENDAR
VERSION:2.0
PRODID:icalendar-ruby
CALSCALE:GREGORIAN
BEGIN:VEVENT
DTSTAMP:20260420T150739Z
UID:a98a6eb9-5235-4760-b7a2-60dc31111d5d
DTSTART:20261031T000000
DTEND:20261031T030000
DESCRIPTION:Despised Icon live in concert at Patronaat
LOCATION:Patronaat\, Haarlem\, \, Netherlands
ORGANIZER:mailto:events@ampwrecked.com
SUMMARY:Despised Icon - Despised Icon at Patronaat
END:VEVENT
END:VCALENDAR
