BEGIN:VCALENDAR
VERSION:2.0
PRODID:icalendar-ruby
CALSCALE:GREGORIAN
BEGIN:VEVENT
DTSTAMP:20260420T131325Z
UID:f5ca2c86-8459-406f-aa9c-0e5d1ff10444
DTSTART:20261030T000000
DTEND:20261030T030000
DESCRIPTION:Despised Icon live in concert at Weststadthalle Essen
LOCATION:Weststadthalle Essen\, Essen\, \, Germany
ORGANIZER:mailto:events@ampwrecked.com
SUMMARY:Despised Icon - Despised Icon at Weststadthalle Essen
END:VEVENT
END:VCALENDAR
