BEGIN:VCALENDAR
VERSION:2.0
PRODID:icalendar-ruby
CALSCALE:GREGORIAN
BEGIN:VEVENT
DTSTAMP:20260420T114206Z
UID:289d52de-9e67-4565-b306-f5947fd1d41f
DTSTART:20261029T000000
DTEND:20261029T030000
DESCRIPTION:Despised Icon live in concert at Backstage
LOCATION:Backstage\, München\, \, Germany
ORGANIZER:mailto:events@ampwrecked.com
SUMMARY:Despised Icon - Despised Icon at Backstage
END:VEVENT
END:VCALENDAR
