BEGIN:VCALENDAR
VERSION:2.0
PRODID:icalendar-ruby
CALSCALE:GREGORIAN
BEGIN:VEVENT
DTSTAMP:20260420T114159Z
UID:dcaf9da2-2abe-4b0c-bbdb-1f3dfda27f7b
DTSTART:20260910T000000
DTEND:20260910T030000
DESCRIPTION:Despised Icon live in concert at Envol et Macadam 2026
LOCATION:Envol et Macadam 2026\, Québec\, QC\, USA
ORGANIZER:mailto:events@ampwrecked.com
SUMMARY:Despised Icon - Despised Icon at Envol et Macadam 2026
END:VEVENT
END:VCALENDAR
