BEGIN:VCALENDAR
VERSION:2.0
PRODID:icalendar-ruby
CALSCALE:GREGORIAN
BEGIN:VEVENT
DTSTAMP:20260420T114118Z
UID:644a4217-22dd-4a05-94de-6ef76c84f80b
DTSTART:20260821T000000
DTEND:20260821T030000
DESCRIPTION:Despised Icon live in concert at Warped Tour Montreal 2026
LOCATION:Warped Tour Montreal 2026\, Montréal\, QC\, USA
ORGANIZER:mailto:events@ampwrecked.com
SUMMARY:Despised Icon - Despised Icon at Warped Tour Montreal 2026
END:VEVENT
END:VCALENDAR
