BEGIN:VCALENDAR
VERSION:2.0
PRODID:icalendar-ruby
CALSCALE:GREGORIAN
BEGIN:VEVENT
DTSTAMP:20260420T015950Z
UID:10837204-cfb8-4298-a6f5-be5a9a7b214e
DTSTART:20260701T000000
DTEND:20260701T030000
DESCRIPTION:The Browning live in concert at Resurrection Fest 2026
LOCATION:Resurrection Fest 2026\, Viveiro\, \, Spain
ORGANIZER:mailto:events@ampwrecked.com
SUMMARY:The Browning - The Browning at Resurrection Fest 2026
END:VEVENT
END:VCALENDAR
