BEGIN:VCALENDAR
VERSION:2.0
PRODID:icalendar-ruby
CALSCALE:GREGORIAN
BEGIN:VEVENT
DTSTAMP:20260420T000018Z
UID:80d99bc6-53ac-4345-b86b-7ded6f2695ef
DTSTART:20260618T000000
DTEND:20260618T030000
DESCRIPTION:The Browning live in concert at Rockhouse-Bar
LOCATION:Rockhouse-Bar\, Salzburg\, \, Austria
ORGANIZER:mailto:events@ampwrecked.com
SUMMARY:The Browning - The Browning at Rockhouse-Bar
END:VEVENT
END:VCALENDAR
