BEGIN:VCALENDAR
VERSION:2.0
PRODID:icalendar-ruby
CALSCALE:GREGORIAN
BEGIN:VEVENT
DTSTAMP:20260420T150849Z
UID:c4dc0d26-b5ad-48a4-aad5-9ff82c5d6dc6
DTSTART:20260425T000000
DTEND:20260425T030000
DESCRIPTION:The Acacia Strain live in concert at House of Blues San Diego
LOCATION:House of Blues San Diego\, San Diego\, CA\, USA
ORGANIZER:mailto:events@ampwrecked.com
SUMMARY:The Acacia Strain - The Acacia Strain at House of Blues San Diego
END:VEVENT
END:VCALENDAR
