BEGIN:VCALENDAR
VERSION:2.0
PRODID:icalendar-ruby
CALSCALE:GREGORIAN
BEGIN:VEVENT
DTSTAMP:20260420T164304Z
UID:c70c38f1-3750-4127-b888-d7f69c744a96
DTSTART:20260424T000000
DTEND:20260424T030000
DESCRIPTION:The Acacia Strain live in concert at House Of Blues GardenWalk 
 Gear Shop and Box Office
LOCATION:House Of Blues GardenWalk Gear Shop and Box Office\, Anaheim\, CA\
 , USA
ORGANIZER:mailto:events@ampwrecked.com
SUMMARY:The Acacia Strain - The Acacia Strain at House Of Blues GardenWalk 
 Gear Shop and Box Office
END:VEVENT
END:VCALENDAR
