BEGIN:VCALENDAR
VERSION:2.0
PRODID:icalendar-ruby
CALSCALE:GREGORIAN
BEGIN:VEVENT
DTSTAMP:20260420T164304Z
UID:ecfa3fa6-db54-4f4c-9d31-bffaa4a8a4c4
DTSTART:20260423T000000
DTEND:20260423T030000
DESCRIPTION:The Acacia Strain live in concert at Rialto Theatre
LOCATION:Rialto Theatre\, Tucson\, AZ\, USA
ORGANIZER:mailto:events@ampwrecked.com
SUMMARY:The Acacia Strain - The Acacia Strain at Rialto Theatre
END:VEVENT
END:VCALENDAR
