BEGIN:VCALENDAR
VERSION:2.0
PRODID:icalendar-ruby
CALSCALE:GREGORIAN
BEGIN:VEVENT
DTSTAMP:20260420T164258Z
UID:d2be5811-60e3-475b-bf47-b65963349b7f
DTSTART:20260421T000000
DTEND:20260421T030000
DESCRIPTION:The Acacia Strain live in concert at Tower Theatre
LOCATION:Tower Theatre\, Oklahoma City\, OK\, USA
ORGANIZER:mailto:events@ampwrecked.com
SUMMARY:The Acacia Strain - The Acacia Strain at Tower Theatre
END:VEVENT
END:VCALENDAR
