BEGIN:VCALENDAR
VERSION:2.0
PRODID:icalendar-ruby
CALSCALE:GREGORIAN
BEGIN:VEVENT
DTSTAMP:20260419T143903Z
UID:96325861-8522-45bd-abdb-41e8f84b1556
DTSTART:20260428T000000
DTEND:20260428T030000
DESCRIPTION:Memphis May Fire live in concert at Lion Arts Factory
LOCATION:Lion Arts Factory\, Adelaide\, \, Australia
ORGANIZER:mailto:events@ampwrecked.com
SUMMARY:Memphis May Fire - Memphis May Fire at Lion Arts Factory
END:VEVENT
END:VCALENDAR
