BEGIN:VCALENDAR
VERSION:2.0
PRODID:icalendar-ruby
CALSCALE:GREGORIAN
BEGIN:VEVENT
DTSTAMP:20260419T143836Z
UID:d550f754-5271-4329-8a4e-49cab61c247e
DTSTART:20260426T000000
DTEND:20260426T030000
DESCRIPTION:Memphis May Fire live in concert at Princess Theatre
LOCATION:Princess Theatre\, Brisbane\, \, Australia
ORGANIZER:mailto:events@ampwrecked.com
SUMMARY:Memphis May Fire - Memphis May Fire at Princess Theatre
END:VEVENT
END:VCALENDAR
