BEGIN:VCALENDAR
VERSION:2.0
PRODID:icalendar-ruby
CALSCALE:GREGORIAN
BEGIN:VEVENT
DTSTAMP:20260419T143538Z
UID:57dcd45d-5255-4a2e-aa0c-bcd145324e03
DTSTART:20260425T000000
DTEND:20260425T030000
DESCRIPTION:Memphis May Fire live in concert at Manning Bar
LOCATION:Manning Bar\, Camperdown\, \, Australia
ORGANIZER:mailto:events@ampwrecked.com
SUMMARY:Memphis May Fire - Memphis May Fire at Manning Bar
END:VEVENT
END:VCALENDAR
