BEGIN:VCALENDAR
VERSION:2.0
PRODID:icalendar-ruby
CALSCALE:GREGORIAN
BEGIN:VEVENT
DTSTAMP:20260419T125219Z
UID:37099df4-a8df-459e-b5a5-a1a2214a6e45
DTSTART:20260424T000000
DTEND:20260424T030000
DESCRIPTION:Memphis May Fire live in concert at Northcote Theatre
LOCATION:Northcote Theatre\, Melbourne\, \, Australia
ORGANIZER:mailto:events@ampwrecked.com
SUMMARY:Memphis May Fire - Memphis May Fire at Northcote Theatre
END:VEVENT
END:VCALENDAR
