BEGIN:VCALENDAR
VERSION:2.0
PRODID:icalendar-ruby
CALSCALE:GREGORIAN
BEGIN:VEVENT
DTSTAMP:20260419T125219Z
UID:68acdcb9-a7c0-4e2e-8beb-4a1e984e9647
DTSTART:20260422T000000
DTEND:20260422T030000
DESCRIPTION:Memphis May Fire live in concert at Hard Rock Cuscaden
LOCATION:Hard Rock Cuscaden\, Singapore\, \, Singapore
ORGANIZER:mailto:events@ampwrecked.com
SUMMARY:Memphis May Fire - Memphis May Fire at Hard Rock Cuscaden
END:VEVENT
END:VCALENDAR
