BEGIN:VCALENDAR
VERSION:2.0
PRODID:icalendar-ruby
CALSCALE:GREGORIAN
BEGIN:VEVENT
DTSTAMP:20260419T125301Z
UID:b0839ad4-43cf-48d7-9a17-62f88a3e49b5
DTSTART:20260420T000000
DTEND:20260420T030000
DESCRIPTION:Memphis May Fire live in concert at The Street Ratchada
LOCATION:The Street Ratchada\, Bangkok\, \, Thailand
ORGANIZER:mailto:events@ampwrecked.com
SUMMARY:Memphis May Fire - Memphis May Fire at The Street Ratchada
END:VEVENT
END:VCALENDAR
