BEGIN:VCALENDAR
VERSION:2.0
PRODID:icalendar-ruby
CALSCALE:GREGORIAN
BEGIN:VEVENT
DTSTAMP:20260420T114451Z
UID:d6ff73d6-d931-4170-a515-60a8735da6ae
DTSTART:20260416T000000
DTEND:20260416T030000
DESCRIPTION:[spung live in concert at The 1865
LOCATION:The 1865\, Southampton\, \, United Kingdom
ORGANIZER:mailto:events@ampwrecked.com
SUMMARY:[spung - [spung at The 1865
END:VEVENT
END:VCALENDAR
