BEGIN:VCALENDAR
VERSION:2.0
PRODID:icalendar-ruby
CALSCALE:GREGORIAN
BEGIN:VEVENT
DTSTAMP:20260421T083913Z
UID:2627758a-de04-4435-bb03-8ce7c0456e51
DTSTART:20260612T000000
DTEND:20260612T030000
DESCRIPTION:Limit of Destruction live in concert at Into the Grave Festival
  2026
LOCATION:Into the Grave Festival 2026\, Leeuwarden\, \, Netherlands
ORGANIZER:mailto:events@ampwrecked.com
SUMMARY:Limit of Destruction - Limit of Destruction at Into the Grave Festi
 val 2026
END:VEVENT
END:VCALENDAR
