BEGIN:VCALENDAR
VERSION:2.0
PRODID:icalendar-ruby
CALSCALE:GREGORIAN
BEGIN:VEVENT
DTSTAMP:20260420T113755Z
UID:caaa0f98-ba09-4a74-91be-07c62ff6aaa7
DTSTART:20260502T000000
DTEND:20260502T030000
DESCRIPTION:Dashboard Confessional live in concert at Hammersonic 2026
LOCATION:Hammersonic 2026\, Tangerang Regency\, \, Indonesia
ORGANIZER:mailto:events@ampwrecked.com
SUMMARY:Dashboard Confessional - Dashboard Confessional at Hammersonic 2026
END:VEVENT
END:VCALENDAR
