BEGIN:VCALENDAR
VERSION:2.0
PRODID:icalendar-ruby
CALSCALE:GREGORIAN
BEGIN:VEVENT
DTSTAMP:20260422T125943Z
UID:5166bf3c-d74a-41b7-b446-55ee049e8117
DTSTART:20260813T000000
DTEND:20260813T030000
DESCRIPTION:Pierce The Veil live in concert at Nissan Stadium
LOCATION:Nissan Stadium\, Nashville\, TN\, USA
ORGANIZER:mailto:events@ampwrecked.com
SUMMARY:Pierce The Veil - Pierce The Veil at Nissan Stadium
END:VEVENT
END:VCALENDAR
