BEGIN:VCALENDAR
VERSION:2.0
PRODID:icalendar-ruby
CALSCALE:GREGORIAN
BEGIN:VEVENT
DTSTAMP:20260422T114143Z
UID:e44bd1b5-62a3-4e94-aabe-485d6bb5a52f
DTSTART:20260605T000000
DTEND:20260605T030000
DESCRIPTION:Pierce The Veil live in concert at The Governors Ball Music Fes
 tival 2026
LOCATION:The Governors Ball Music Festival 2026\, Queens County\, NY\, USA
ORGANIZER:mailto:events@ampwrecked.com
SUMMARY:Pierce The Veil - Pierce The Veil at The Governors Ball Music Festi
 val 2026
END:VEVENT
END:VCALENDAR
