BEGIN:VCALENDAR
VERSION:2.0
PRODID:icalendar-ruby
CALSCALE:GREGORIAN
BEGIN:VEVENT
DTSTAMP:20260419T150838Z
UID:9cb4af74-df2a-4c06-ae94-8f6857df1f91
DTSTART:20260510T000000
DTEND:20260510T030000
DESCRIPTION:Slaughter to Prevail live in concert at Welcome to Rockville 20
 26
LOCATION:Welcome to Rockville 2026\, Daytona Beach\, FL\, USA
ORGANIZER:mailto:events@ampwrecked.com
SUMMARY:Slaughter to Prevail - Slaughter to Prevail at Welcome to Rockville
  2026
END:VEVENT
END:VCALENDAR
