BEGIN:VCALENDAR
VERSION:2.0
PRODID:icalendar-ruby
CALSCALE:GREGORIAN
BEGIN:VEVENT
DTSTAMP:20260419T151744Z
UID:e01f7815-2756-43c4-ae41-2ff7e08920c9
DTSTART:20260506T000000
DTEND:20260506T030000
DESCRIPTION:Slaughter to Prevail live in concert at Blood4Blood
LOCATION:Blood4Blood\, Daytona Beach\, FL\, USA
ORGANIZER:mailto:events@ampwrecked.com
SUMMARY:Slaughter to Prevail - Slaughter to Prevail at Blood4Blood
END:VEVENT
END:VCALENDAR
