BEGIN:VCALENDAR
VERSION:2.0
PRODID:icalendar-ruby
CALSCALE:GREGORIAN
BEGIN:VEVENT
DTSTAMP:20260419T133220Z
UID:19c4b32a-09b4-4507-819c-a985178d7309
DTSTART:20260422T000000
DTEND:20260422T030000
DESCRIPTION:Slaughter to Prevail live in concert at Myth Live
LOCATION:Myth Live\, Maplewood\, MN\, USA
ORGANIZER:mailto:events@ampwrecked.com
SUMMARY:Slaughter to Prevail - Slaughter to Prevail at Myth Live
END:VEVENT
END:VCALENDAR
