BEGIN:VCALENDAR
VERSION:2.0
PRODID:icalendar-ruby
CALSCALE:GREGORIAN
BEGIN:VEVENT
DTSTAMP:20260419T131553Z
UID:e730c638-86ba-4b1a-bcd0-c33c262efd37
DTSTART:20260421T000000
DTEND:20260421T030000
DESCRIPTION:Slaughter to Prevail live in concert at Vibrant Music Hall
LOCATION:Vibrant Music Hall\, Waukee\, IA\, USA
ORGANIZER:mailto:events@ampwrecked.com
SUMMARY:Slaughter to Prevail - Slaughter to Prevail at Vibrant Music Hall
END:VEVENT
END:VCALENDAR
