BEGIN:VCALENDAR
VERSION:2.0
PRODID:icalendar-ruby
CALSCALE:GREGORIAN
BEGIN:VEVENT
DTSTAMP:20260419T133910Z
UID:8c188287-50c5-4609-8a9b-ef45bc64137a
DTSTART:20260420T000000
DTEND:20260420T030000
DESCRIPTION:Slaughter to Prevail live in concert at Aragon Ballroom
LOCATION:Aragon Ballroom\, Chicago\, IL\, USA
ORGANIZER:mailto:events@ampwrecked.com
SUMMARY:Slaughter to Prevail - Slaughter to Prevail at Aragon Ballroom
END:VEVENT
END:VCALENDAR
