BEGIN:VCALENDAR
VERSION:2.0
PRODID:icalendar-ruby
CALSCALE:GREGORIAN
BEGIN:VEVENT
DTSTAMP:20260419T165701Z
UID:f314148b-b46d-4a44-9598-2823c52332ce
DTSTART:20260418T000000
DTEND:20260418T030000
DESCRIPTION:Slaughter to Prevail live in concert at HISTORY
LOCATION:HISTORY\, Toronto\, ON\, USA
ORGANIZER:mailto:events@ampwrecked.com
SUMMARY:Slaughter to Prevail - Slaughter to Prevail at HISTORY
END:VEVENT
END:VCALENDAR
