BEGIN:VCALENDAR
VERSION:2.0
PRODID:icalendar-ruby
CALSCALE:GREGORIAN
BEGIN:VEVENT
DTSTAMP:20260420T114026Z
UID:f23aeb48-4ab4-4f4a-8777-606be4c1f137
DTSTART:20260508T000000
DTEND:20260508T030000
DESCRIPTION:Carcass live in concert at Welcome to Rockville Pre-Party 2026
LOCATION:Welcome to Rockville Pre-Party 2026\, Daytona Beach\, FL\, USA
ORGANIZER:mailto:events@ampwrecked.com
SUMMARY:Carcass - Carcass at Welcome to Rockville Pre-Party 2026
END:VEVENT
END:VCALENDAR
