BEGIN:VCALENDAR
VERSION:2.0
PRODID:icalendar-ruby
CALSCALE:GREGORIAN
BEGIN:VEVENT
DTSTAMP:20260420T113543Z
UID:04f50803-b325-4b94-bf4b-984c4bc85a84
DTSTART:20260509T000000
DTEND:20260509T030000
DESCRIPTION:Counterpunch live in concert at Counterpunch at Dunlap's
LOCATION:Counterpunch at Dunlap's\, Cleveland\, OH\, USA
ORGANIZER:mailto:events@ampwrecked.com
SUMMARY:Counterpunch - Counterpunch at Counterpunch at Dunlap's
END:VEVENT
END:VCALENDAR
