BEGIN:VCALENDAR
VERSION:2.0
PRODID:icalendar-ruby
CALSCALE:GREGORIAN
BEGIN:VEVENT
DTSTAMP:20260420T113543Z
UID:a75a555f-3449-439f-bd9c-8d2cde797f37
DTSTART:20260509T000000
DTEND:20260509T030000
DESCRIPTION:Counterpunch live in concert at Skatedusky
LOCATION:Skatedusky\, Sandusky\, OH\, USA
ORGANIZER:mailto:events@ampwrecked.com
SUMMARY:Counterpunch - Counterpunch at Skatedusky
END:VEVENT
END:VCALENDAR
