BEGIN:VCALENDAR
VERSION:2.0
PRODID:icalendar-ruby
CALSCALE:GREGORIAN
BEGIN:VEVENT
DTSTAMP:20260420T114451Z
UID:0233afb9-8972-4fd9-b223-fa8d834e3609
DTSTART:20260516T000000
DTEND:20260516T030000
DESCRIPTION:Possessed Entity live in concert at San Luis Metal Fest 2026
LOCATION:San Luis Metal Fest 2026\, San Luis Potosí\, \, Mexico
ORGANIZER:mailto:events@ampwrecked.com
SUMMARY:Possessed Entity - Possessed Entity at San Luis Metal Fest 2026
END:VEVENT
END:VCALENDAR
