BEGIN:VCALENDAR
VERSION:2.0
PRODID:icalendar-ruby
CALSCALE:GREGORIAN
BEGIN:VEVENT
DTSTAMP:20260420T114503Z
UID:651b9aa8-65a5-4539-9b3e-948a703aac49
DTSTART:20260627T000000
DTEND:20260627T030000
DESCRIPTION:Panic live in concert at Red Rocks Amphitheatre
LOCATION:Red Rocks Amphitheatre\, Morrison\, CO\, USA
ORGANIZER:mailto:events@ampwrecked.com
SUMMARY:Panic - Panic at Red Rocks Amphitheatre
END:VEVENT
END:VCALENDAR
