BEGIN:VCALENDAR
VERSION:2.0
PRODID:icalendar-ruby
CALSCALE:GREGORIAN
BEGIN:VEVENT
DTSTAMP:20260420T114452Z
UID:95291566-9741-4d20-9562-0f2f08ea9549
DTSTART:20260626T000000
DTEND:20260626T030000
DESCRIPTION:Panic live in concert at Red Rocks Amphitheatre
LOCATION:Red Rocks Amphitheatre\, Morrison\, CO\, USA
ORGANIZER:mailto:events@ampwrecked.com
SUMMARY:Panic - Panic at Red Rocks Amphitheatre
END:VEVENT
END:VCALENDAR
