BEGIN:VCALENDAR
VERSION:2.0
PRODID:icalendar-ruby
CALSCALE:GREGORIAN
BEGIN:VEVENT
DTSTAMP:20260419T125127Z
UID:c5ca54be-f59e-4149-b7a9-9914716286ca
DTSTART:20260529T000000
DTEND:20260529T030000
DESCRIPTION:Fankaz live in concert at Spring Carnage Fest
LOCATION:Spring Carnage Fest\, Ferrara\, \, Italy
ORGANIZER:mailto:events@ampwrecked.com
SUMMARY:Fankaz - Fankaz at Spring Carnage Fest
END:VEVENT
END:VCALENDAR
