BEGIN:VCALENDAR
VERSION:2.0
PRODID:icalendar-ruby
CALSCALE:GREGORIAN
BEGIN:VEVENT
DTSTAMP:20260420T130838Z
UID:70997c93-0341-4607-b801-066f4b3265fc
DTSTART:20260516T000000
DTEND:20260516T030000
DESCRIPTION:Orange Hell live in concert at Bearsville Theater
LOCATION:Bearsville Theater\, Woodstock\, NY\, USA
ORGANIZER:mailto:events@ampwrecked.com
SUMMARY:Orange Hell - Orange Hell at Bearsville Theater
END:VEVENT
END:VCALENDAR
