BEGIN:VCALENDAR
VERSION:2.0
PRODID:icalendar-ruby
CALSCALE:GREGORIAN
BEGIN:VEVENT
DTSTAMP:20260420T113913Z
UID:ef7b0386-1aa1-4a03-b9a0-f82a7a7487c7
DTSTART:20260515T000000
DTEND:20260515T030000
DESCRIPTION:Orange Hell live in concert at The Fillmore Silver Spring
LOCATION:The Fillmore Silver Spring\, Silver Spring\, MD\, USA
ORGANIZER:mailto:events@ampwrecked.com
SUMMARY:Orange Hell - Orange Hell at The Fillmore Silver Spring
END:VEVENT
END:VCALENDAR
