BEGIN:VCALENDAR
VERSION:2.0
PRODID:icalendar-ruby
CALSCALE:GREGORIAN
BEGIN:VEVENT
DTSTAMP:20260420T113836Z
UID:416d7de5-57be-429b-a8e5-b4861389dccc
DTSTART:20260503T000000
DTEND:20260503T030000
DESCRIPTION:Orange Hell live in concert at Sing Us Home 2026
LOCATION:Sing Us Home 2026\, Philadelphia\, PA\, USA
ORGANIZER:mailto:events@ampwrecked.com
SUMMARY:Orange Hell - Orange Hell at Sing Us Home 2026
END:VEVENT
END:VCALENDAR
