BEGIN:VCALENDAR
VERSION:2.0
PRODID:icalendar-ruby
CALSCALE:GREGORIAN
BEGIN:VEVENT
DTSTAMP:20260420T113537Z
UID:2841d2be-f11d-4cee-abfc-2228da165b18
DTSTART:20260509T000000
DTEND:20260509T030000
DESCRIPTION:The Ataris live in concert at Sublime Festival 2026
LOCATION:Sublime Festival 2026\, Fort Worth\, TX\, USA
ORGANIZER:mailto:events@ampwrecked.com
SUMMARY:The Ataris - The Ataris at Sublime Festival 2026
END:VEVENT
END:VCALENDAR
