BEGIN:VCALENDAR
VERSION:2.0
PRODID:icalendar-ruby
CALSCALE:GREGORIAN
BEGIN:VEVENT
DTSTAMP:20260420T150555Z
UID:14c85819-3151-44b0-a50a-b725930502e8
DTSTART:20260426T000000
DTEND:20260426T030000
DESCRIPTION:The Amity Affliction live in concert at House of Blues Anaheim
LOCATION:House of Blues Anaheim\, Anaheim\, CA\, USA
ORGANIZER:mailto:events@ampwrecked.com
SUMMARY:The Amity Affliction - The Amity Affliction at House of Blues Anahe
 im
END:VEVENT
END:VCALENDAR
