BEGIN:VCALENDAR
VERSION:2.0
PRODID:icalendar-ruby
CALSCALE:GREGORIAN
BEGIN:VEVENT
DTSTAMP:20260420T053426Z
UID:caeb9ca9-4a94-40f1-9dbd-6d3283ff110c
DTSTART:20260425T000000
DTEND:20260425T030000
DESCRIPTION:The Amity Affliction live in concert at SOMA
LOCATION:SOMA\, San Diego\, CA\, USA
ORGANIZER:mailto:events@ampwrecked.com
SUMMARY:The Amity Affliction - The Amity Affliction at SOMA
END:VEVENT
END:VCALENDAR
