BEGIN:VCALENDAR
VERSION:2.0
PRODID:icalendar-ruby
CALSCALE:GREGORIAN
BEGIN:VEVENT
DTSTAMP:20260420T035508Z
UID:0c9730b2-f57c-4a56-ac96-d95663e38167
DTSTART:20260424T000000
DTEND:20260424T030000
DESCRIPTION:The Amity Affliction live in concert at Marquee Theatre
LOCATION:Marquee Theatre\, Tempe\, AZ\, USA
ORGANIZER:mailto:events@ampwrecked.com
SUMMARY:The Amity Affliction - The Amity Affliction at Marquee Theatre
END:VEVENT
END:VCALENDAR
