BEGIN:VCALENDAR
VERSION:2.0
PRODID:icalendar-ruby
CALSCALE:GREGORIAN
BEGIN:VEVENT
DTSTAMP:20260420T035205Z
UID:661671b1-d5e7-4776-89a8-14f263ab7641
DTSTART:20260422T000000
DTEND:20260422T030000
DESCRIPTION:The Amity Affliction live in concert at Vibes Event Center
LOCATION:Vibes Event Center\, San Antonio\, TX\, USA
ORGANIZER:mailto:events@ampwrecked.com
SUMMARY:The Amity Affliction - The Amity Affliction at Vibes Event Center
END:VEVENT
END:VCALENDAR
