BEGIN:VCALENDAR
VERSION:2.0
PRODID:icalendar-ruby
CALSCALE:GREGORIAN
BEGIN:VEVENT
DTSTAMP:20260420T034908Z
UID:12745d9f-309c-4ab3-890b-ac98dcd84d26
DTSTART:20260421T000000
DTEND:20260421T030000
DESCRIPTION:The Amity Affliction live in concert at House Of Blues
LOCATION:House Of Blues\, Houston\, TX\, USA
ORGANIZER:mailto:events@ampwrecked.com
SUMMARY:The Amity Affliction - The Amity Affliction at House Of Blues
END:VEVENT
END:VCALENDAR
